BEGIN:VCALENDAR
VERSION:2.0
PRODID:-//Gunagu - ECPv5.14.2.1//NONSGML v1.0//EN
CALSCALE:GREGORIAN
METHOD:PUBLISH
X-WR-CALNAME:Gunagu
X-ORIGINAL-URL:https://gunagu.sk
X-WR-CALDESC:Udalosti pre Gunagu
BEGIN:VTIMEZONE
TZID:UTC
BEGIN:STANDARD
TZOFFSETFROM:+0000
TZOFFSETTO:+0000
TZNAME:UTC
DTSTART:20260101T000000
END:STANDARD
END:VTIMEZONE
BEGIN:VEVENT
DTSTART;TZID=UTC:20260518T190000
DTEND;TZID=UTC:20260518T190000
DTSTAMP:20260423T170758
CREATED:20260415T094121Z
LAST-MODIFIED:20260415T094121Z
UID:21392-1779130800-1779130800@gunagu.sk
SUMMARY:Socík\, sladký socík
DESCRIPTION:Hudobná retro komédia. \nVedeli ste\, že v pivnici\, kde dnes hráva GUnaGU\, bývala v osemdesiatych rokoch minulého storočia legendárna vináreň U Julky? Príbeh zavedie divákov do Bratislavy roku 1984\, kedy sme pred reálnym socializmom často emigrovali do alkoholu… Predstavenie sa v prípade priaznivého počasia začína už pred divadlom\, kde čaká divákov pätnásťminútová exkurzia po Starom Meste\, kde kedysi bývali slávne vinárne. Všetko pokračuje v podzemí GUnaGU\, ktoré sa mení na vináreň U Julky. V nej sa rozbieha príbeh lásky a sklamania uprostred blbej doby reálneho socializmu. V predstavení zaznejú nielen dobové piesne\, ale aj živá hudba folkového strihu\, príbeh sa ostro mení z činohry na muzikál a pocit márnosti nad premárneným životom strieda humor\, vďaka ktorému sme tie divné časy prežili. Retro komédia o dobe za ostnatým plotom asociuje aj dnešnú Európu a jej nové ploty. Lebo ako hovorí starý vtip: tato\, kto je za tým plotom? My\, chlapče\, my. \nPo skončení predstavenia je prestávka a po nej hráme 15-minútový bonus pre vytrvalých divákov: pásmo americkej poézie Beat generation (Lawrence Ferlinghetti\, Gregory Corso). Odporúčame! \n\n\n\n\n\n\n\n\n\n\n\n\n\n\nVstupenky v sieti Ticketportal  
URL:https://gunagu.sk/predstavenia/socik-sladky-socik-25/
LOCATION:Divadlo GUnaGU\, Františkánske nám. 7\, Bratislava\, Slovenská republika
ATTACH;FMTTYPE=image/jpeg:https://gunagu.sk/wp-content/uploads/2021/03/socik-head.jpg
END:VEVENT
END:VCALENDAR